BEGIN:VCALENDAR
VERSION:2.0
PRODID:icalendar-ruby
CALSCALE:GREGORIAN
X-WR-TIMEZONE:Europe/Helsinki
BEGIN:VTIMEZONE
TZID:Europe/Helsinki
BEGIN:DAYLIGHT
DTSTART:20260329T040000
TZOFFSETFROM:+0200
TZOFFSETTO:+0300
RRULE:FREQ=YEARLY;BYDAY=-1SU;BYMONTH=3
TZNAME:EEST
END:DAYLIGHT
BEGIN:STANDARD
DTSTART:20261025T030000
TZOFFSETFROM:+0300
TZOFFSETTO:+0200
RRULE:FREQ=YEARLY;BYDAY=-1SU;BYMONTH=10
TZNAME:EET
END:STANDARD
END:VTIMEZONE
BEGIN:VEVENT
DTSTAMP:20260421T112159
UID:tapiolanhonka.myclub.fi-10309307
DTSTART;TZID=Europe/Helsinki:20260610T090000
DTEND;TZID=Europe/Helsinki:20260611T160000
DESCRIPTION:Tervetuloa Honka Scoring Campille. Tänä vuonna Tuukka Kotin j
 a David Gonzalvezin vetämä leiri on jaettu kahteen osaan. Lapsi voi osal
 listua halutessaan vain jompaankumpaan\, mutta molempiin osallistumalla sa
 at harjoittelusta enemmän irti.\nJokainen pelaaja haluaa olla hyvä korin
 tekijä! Hyvä korintekijä keksii keinot päästä hyviin korintekopaikko
 ihin pallon kanssa tai ilman palloa. Sen lisäksi hyvä heitto- ja viimeis
 telytaito on tärkeää. Leirillä autetaan jokaista pelaajaa oivaltamaan 
 uusia tapoja puolustajan voittamiseen ja kehittymään korintekijänä –
  asiantuntevan ja innostavan valmennuksen kautta. Harjoittelemme ikätasor
 yhmissä.\nHonka Scoring Camp osa II Ajankohta: 10.-11.6.2026 Klo: 9-16 (p
 uolipäiväleiri 9-13:30) Kenelle: 2013-2019 syntyneille Vastuuvalmentajat
 : Tuukka Kotti ja David Gonzalvez Hinnat: \nKokopäiväleiri 9-16: Tapiola
 n Hongan jäsenille 90\, muille 100 Puolipäiväleiri 9-13:30: Tapiolan Ho
 ngan jäsenille 65\, muille 70\nHinta sisältää: Huippuvalmennuksen\, lo
 unaan ja kokopäiväleiriläisille välipalan Vakuutus: Leiriläisiä EI o
 le vakuutettu järjestäjän toimesta Maksimimäärä: 50 leiriläistä\nH
 UOM! ERIKOISRUOKAVALIOT: Ilmoita lapsen ruoka-allergiat ja erikoisruokaval
 iot ilmoittautumisen yhteydessä 'Ruoka-aineallergiat ja erikoisruokavalio
 t' -lisäkenttään.\nLaskutus ja peruutusehdot\nLasku lähetetään ilmoi
 ttautumisen yhteydessä. Maksuehto on 14 pv.\nViimeistään 7 vrk ennen le
 irin alkua tulleista peruutuksista palautamme leirimaksun kokonaan\, lukuu
 n ottamatta 5 euron käsittelymaksua. Tämän jälkeen tulleista peruutuks
 ista palautamme 75 % leirimaksusta. Leirin alkamisen jälkeen tulleista pe
 ruutuksista palautamme 50 % leirimaksusta lääkärintodistusta vastaan si
 ltä osin\, kun lapselta jää kokonaisia leiripäiviä väliin.\nOsallist
 uminen perutaan aina kirjallisesti osoitteeseen antti.viitanen (at) tapiol
 anhonka.fi. Leirimaksun maksamatta jättäminen ei tarkoita osallistumisen
  perumista.\nLisätiedot: Antti Viitanen (antti.viitanen (at) tapiolanhonk
 a.fi / 0505839953)\n\nhttps://tapiolanhonka.myclub.fi/flow/events/10309307
LOCATION:Honkahalli\, Urheilupuistontie 2\, 02200 Espoo\, Suomi
SEQUENCE:0
SUMMARY:Leirit: Honka SCORING CAMP osa II by Tuukka & David (2013-2019 synt
 yneille)
URL;VALUE=URI:https://tapiolanhonka.myclub.fi/flow/events/10309307
END:VEVENT
END:VCALENDAR
