BEGIN:VCALENDAR
VERSION:2.0
PRODID:icalendar-ruby
CALSCALE:GREGORIAN
X-WR-TIMEZONE:Europe/Helsinki
BEGIN:VTIMEZONE
TZID:Europe/Helsinki
BEGIN:DAYLIGHT
DTSTART:20260329T040000
TZOFFSETFROM:+0200
TZOFFSETTO:+0300
RRULE:FREQ=YEARLY;BYDAY=-1SU;BYMONTH=3
TZNAME:EEST
END:DAYLIGHT
BEGIN:STANDARD
DTSTART:20261025T030000
TZOFFSETFROM:+0300
TZOFFSETTO:+0200
RRULE:FREQ=YEARLY;BYDAY=-1SU;BYMONTH=10
TZNAME:EET
END:STANDARD
END:VTIMEZONE
BEGIN:VEVENT
DTSTAMP:20260421T112424
UID:tapiolanhonka.myclub.fi-10309300
DTSTART;TZID=Europe/Helsinki:20260615T090000
DTEND;TZID=Europe/Helsinki:20260617T160000
DESCRIPTION:Esittelemme “The Skill Factory” -koripalloleirin\, joka on 
 suunniteltu arvioimaan ja kehittämään jokaisen pelaajan taitoja sekä a
 ntamaan heille työkalut pelinsä viemiseen seuraavalle tasolle. Leirillä
  tarjoamme kohdennettua ohjausta pelaajien heikkouksien vahvistamiseksi se
 kä perustaitojen kehittämiseksi. Painotamme keskeisiä taitoja\, kuten p
 allonkäsittelyä\, syöttämistä\, heittämistä ja paljon muuta. Harjoi
 ttelemme ikätasoryhmissä.\nLiity mukaan ja hyödynnä tämä upea tilais
 uus kehittyä ja pitää hauskaa!\nAjankohta: 15.-17.6.2026 Klo: 9-16 (puo
 lipäiväleiri 9-13:30) Kenelle: 2013-2019 syntyneille Vastuuvalmentajat: 
 Tuukka Kotti ja David Gonzalvez Hinnat: \nKokopäiväleiri 9-16: Tapiolan 
 Hongan jäsenille 125\, muille 135 Puolipäiväleiri 9-13:30: Tapiolan Hon
 gan jäsenille 90\, muille 95\nHinta sisältää: Huippuvalmennuksen\, lou
 naan ja kokopäiväleiriläisille välipalan Vakuutus: Leiriläisiä EI ol
 e vakuutettu järjestäjän toimesta Maksimimäärä: 50 leiriläistä\nHU
 OM! ERIKOISRUOKAVALIOT: Ilmoita lapsen ruoka-allergiat ja erikoisruokavali
 ot ilmoittautumisen yhteydessä 'Ruoka-aineallergiat ja erikoisruokavaliot
 ' -lisäkenttään.\nLaskutus ja peruutusehdot\nLasku lähetetään ilmoit
 tautumisen yhteydessä. Maksuehto on 14 pv.\nViimeistään 7 vrk ennen lei
 rin alkua tulleista peruutuksista palautamme leirimaksun kokonaan\, lukuun
  ottamatta 5 euron käsittelymaksua. Tämän jälkeen tulleista peruutuksi
 sta palautamme 75 % leirimaksusta. Leirin alkamisen jälkeen tulleista per
 uutuksista palautamme 50 % leirimaksusta lääkärintodistusta vastaan sil
 tä osin\, kun lapselta jää kokonaisia leiripäiviä väliin.\nOsallistu
 minen perutaan aina kirjallisesti osoitteeseen antti.viitanen (at) tapiola
 nhonka.fi. Leirimaksun maksamatta jättäminen ei tarkoita osallistumisen 
 perumista.\nLisätiedot: Antti Viitanen (antti.viitanen (at) tapiolanhonka
 .fi / 0505839953)\n\nhttps://tapiolanhonka.myclub.fi/flow/events/10309300
LOCATION:Honkahalli\, Urheilupuistontie 2\, 02200 Espoo\, Suomi
SEQUENCE:0
SUMMARY:Leirit: Honka THE SKILL FACTORY (2013-2019 syntyneille) by Tuukka &
  David
URL;VALUE=URI:https://tapiolanhonka.myclub.fi/flow/events/10309300
END:VEVENT
END:VCALENDAR
