BEGIN:VCALENDAR
VERSION:2.0
PRODID:icalendar-ruby
CALSCALE:GREGORIAN
X-WR-TIMEZONE:Europe/Helsinki
BEGIN:VTIMEZONE
TZID:Europe/Helsinki
BEGIN:DAYLIGHT
DTSTART:20260329T040000
TZOFFSETFROM:+0200
TZOFFSETTO:+0300
RRULE:FREQ=YEARLY;BYDAY=-1SU;BYMONTH=3
TZNAME:EEST
END:DAYLIGHT
BEGIN:STANDARD
DTSTART:20261025T030000
TZOFFSETFROM:+0300
TZOFFSETTO:+0200
RRULE:FREQ=YEARLY;BYDAY=-1SU;BYMONTH=10
TZNAME:EET
END:STANDARD
END:VTIMEZONE
BEGIN:VEVENT
DTSTAMP:20260421T112311
UID:tapiolanhonka.myclub.fi-10309298
DTSTART;TZID=Europe/Helsinki:20260612T104500
DTEND;TZID=Europe/Helsinki:20260613T163000
DESCRIPTION:Pelipaikkaleirin tavoitteena on kehittää pelaajien taitoja he
 idän pelipaikkansa vaatimusten mukaisesti. Autamme pelaajia tunnistamaan 
 heikkouksia ja oivaltamaan keinoja niiden kääntämiseen vahvuuksiksi. Ta
 voitteena on auttaa urheilijoita kehittymään monipuolisemmiksi ja kokona
 isvaltaisemmiksi pelaajiksi. Leirillä osallistujat saavat kohdennettua op
 etusta sekä henkilökohtaista palautetta.\nLeirin painopistealueet:  Taka
 pelaajat: Osallistujat parantavat kykyään käsitellä palloa paineen all
 a\, käynnistää palloskriinihyökkäyksiä sekä luoda heittopaikkoja ku
 ljetuksesta.  Laiturit: Keskitymme lähestyvää puolustajaa vastaan edun 
 hyödyntämiseen\, liikkumiseen ilman palloa sekä edun luomiseen eri jalk
 atekniikoiden ja pallonkäsittelyn avulla.  Isot pelaajat: Harjoittelu kes
 kittyy korinaluspelaamiseen\, viimeistelyyn palloskriinitilanteissa sekä 
 heittotaidon kehittämiseen modernin pelityylin vaatimusten mukaisesti.  \
 nIlmoittaudu mukaan leirille ja tule oppimaan asioita\, joilla viet pelisi
  uudelle tasolle!\nAjankohta: 12.-13.6.2026 Klo: Tytöt: 10:45-12:00 & 15:
 15-16:30 (pe & la)   Kenelle: 2010-2012 syntyneille Vastuuvalmentajat: Tuu
 kka Kotti ja David Gonzalvez Hinta: Tapiolan Hongan jäsenille 90\, muille
  100 Hinta sisältää: Huippuvalmennuksen (leirillä ei tarjota ruokaa\, 
 osallistujat voivat harjoitusten välissä käydä kotona syömässä tai 
 ottaa omat eväät Honkahallille) Vakuutus: Leiriläisiä EI ole vakuutett
 u järjestäjän toimesta Maksimimäärä: 20 poikaa ja 20 tyttöä\nLasku
 tus ja peruutusehdot\nLasku lähetetään ilmoittautumisen yhteydessä. Ma
 ksuehto on 14 pv.\nViimeistään 7 vrk ennen leirin alkua tulleista peruut
 uksista palautamme leirimaksun kokonaan\, lukuun ottamatta 5 euron käsitt
 elymaksua. Tämän jälkeen tulleista peruutuksista palautamme 75 % leirim
 aksusta. Leirin alkamisen jälkeen tulleista peruutuksista palautamme 50 %
  leirimaksusta lääkärintodistusta vastaan siltä osin\, kun lapselta j
 ää kokonaisia leiripäiviä väliin.\nOsallistuminen perutaan aina kirja
 llisesti osoitteeseen antti.viitanen (at) tapiolanhonka.fi. Leirimaksun ma
 ksamatta jättäminen ei tarkoita osallistumisen perumista.\nLisätiedot: 
 Antti Viitanen (antti.viitanen (at) tapiolanhonka.fi / 0505839953)\n\nhttp
 s://tapiolanhonka.myclub.fi/flow/events/10309298
LOCATION:Honkahalli\, Urheilupuistontie 2\, 02200 Espoo\, Suomi
SEQUENCE:0
SUMMARY:Leirit: Honka PELIPAIKKALEIRI by Tuukka & David (2012-2014 TYTÖT)
URL;VALUE=URI:https://tapiolanhonka.myclub.fi/flow/events/10309298
END:VEVENT
END:VCALENDAR
