BEGIN:VCALENDAR
VERSION:2.0
PRODID:icalendar-ruby
CALSCALE:GREGORIAN
X-WR-TIMEZONE:Europe/Helsinki
BEGIN:VTIMEZONE
TZID:Europe/Helsinki
BEGIN:DAYLIGHT
DTSTART:20260329T040000
TZOFFSETFROM:+0200
TZOFFSETTO:+0300
RRULE:FREQ=YEARLY;BYDAY=-1SU;BYMONTH=3
TZNAME:EEST
END:DAYLIGHT
BEGIN:STANDARD
DTSTART:20261025T030000
TZOFFSETFROM:+0300
TZOFFSETTO:+0200
RRULE:FREQ=YEARLY;BYDAY=-1SU;BYMONTH=10
TZNAME:EET
END:STANDARD
END:VTIMEZONE
BEGIN:VEVENT
DTSTAMP:20260421T112055
UID:tapiolanhonka.myclub.fi-10309296
DTSTART;TZID=Europe/Helsinki:20260612T090000
DTEND;TZID=Europe/Helsinki:20260613T144500
DESCRIPTION:Pelipaikkaleirin tavoitteena on kehittää pelaajien taitoja he
 idän pelipaikkansa vaatimusten mukaisesti. Autamme pelaajia tunnistamaan 
 heikkouksia ja oivaltamaan keinoja niiden kääntämiseen vahvuuksiksi. Ta
 voitteena on auttaa urheilijoita kehittymään monipuolisemmiksi ja kokona
 isvaltaisemmiksi pelaajiksi. Leirillä osallistujat saavat kohdennettua op
 etusta sekä henkilökohtaista palautetta.\nLeirin painopistealueet:  Taka
 pelaajat: Osallistujat parantavat kykyään käsitellä palloa paineen all
 a\, käynnistää palloskriinihyökkäyksiä sekä luoda heittopaikkoja ku
 ljetuksesta.  Laiturit: Keskitymme lähestyvää puolustajaa vastaan edun 
 hyödyntämiseen\, liikkumiseen ilman palloa sekä edun luomiseen eri jalk
 atekniikoiden ja pallonkäsittelyn avulla.  Isot pelaajat: Harjoittelu kes
 kittyy korinaluspelaamiseen\, viimeistelyyn palloskriinitilanteissa sekä 
 heittotaidon kehittämiseen modernin pelityylin vaatimusten mukaisesti.  \
 nIlmoittaudu mukaan leirille ja tule oppimaan asioita\, joilla viet pelisi
  uudelle tasolle!\nAjankohta: 12.-13.6.2026 Klo: Pojat: 9:00-10:15 & 13:30
 -14:45 (pe & la) Kenelle: 2012-2014 syntyneille Vastuuvalmentajat: Tuukka 
 Kotti ja David Gonzalvez Hinta: Tapiolan Hongan jäsenille 90\, muille 100
  Hinta sisältää: Huippuvalmennuksen (leirillä ei tarjota ruokaa\, osal
 listujat voivat harjoitusten välissä käydä kotona syömässä tai otta
 a omat eväät Honkahallille) Vakuutus: Leiriläisiä EI ole vakuutettu j
 ärjestäjän toimesta Maksimimäärä: 20 poikaa ja 20 tyttöä\nLaskutus
  ja peruutusehdot\nLasku lähetetään ilmoittautumisen yhteydessä. Maksu
 ehto on 14 pv.\nViimeistään 7 vrk ennen leirin alkua tulleista peruutuks
 ista palautamme leirimaksun kokonaan\, lukuun ottamatta 5 euron käsittely
 maksua. Tämän jälkeen tulleista peruutuksista palautamme 75 % leirimaks
 usta. Leirin alkamisen jälkeen tulleista peruutuksista palautamme 50 % le
 irimaksusta lääkärintodistusta vastaan siltä osin\, kun lapselta jää
  kokonaisia leiripäiviä väliin.\nOsallistuminen perutaan aina kirjallis
 esti osoitteeseen antti.viitanen (at) tapiolanhonka.fi. Leirimaksun maksam
 atta jättäminen ei tarkoita osallistumisen perumista.\nLisätiedot: Antt
 i Viitanen (antti.viitanen (at) tapiolanhonka.fi / 0505839953)\n\nhttps://
 tapiolanhonka.myclub.fi/flow/events/10309296
LOCATION:Honkahalli\, Urheilupuistontie 2\, 02200 Espoo\, Suomi
SEQUENCE:0
SUMMARY:Leirit: Honka PELIPAIKKALEIRI by Tuukka & David (2012-2014 POJAT)
URL;VALUE=URI:https://tapiolanhonka.myclub.fi/flow/events/10309296
END:VEVENT
END:VCALENDAR
