BEGIN:VCALENDAR
VERSION:2.0
PRODID:icalendar-ruby
CALSCALE:GREGORIAN
X-WR-TIMEZONE:Europe/Helsinki
BEGIN:VTIMEZONE
TZID:Europe/Helsinki
BEGIN:DAYLIGHT
DTSTART:20260329T040000
TZOFFSETFROM:+0200
TZOFFSETTO:+0300
RRULE:FREQ=YEARLY;BYDAY=-1SU;BYMONTH=3
TZNAME:EEST
END:DAYLIGHT
BEGIN:STANDARD
DTSTART:20261025T030000
TZOFFSETFROM:+0300
TZOFFSETTO:+0200
RRULE:FREQ=YEARLY;BYDAY=-1SU;BYMONTH=10
TZNAME:EET
END:STANDARD
END:VTIMEZONE
BEGIN:VEVENT
DTSTAMP:20260421T112256
UID:tapiolanhonka.myclub.fi-10237077
DTSTART;TZID=Europe/Helsinki:20260601T083000
DTEND;TZID=Europe/Helsinki:20260605T160000
DESCRIPTION:Kesäloman paras aloitus on Hongan Summer Camp! Tule mukaan noi
 n 200 muun lapsen kanssa nauttimaan kesäloman ensimmäisestä viikosta ur
 heilullisissa ja aurinkoisissa merkeissä.\nLeirin ohjelmaan kuuluu päivi
 ttäisten koripallo- ja ulkoharjoitusten lisäksi erilaiset pelit ja kisat
  sekä tietysti perjantaina leirin päättävä vesisota!\nLeirin hintaan 
 kuuluu joka päivä lämmin lounas sekä välipala. Leiripäivät ovat 9-1
 6\, mutta lapset voi tuoda hallille klo 8 ja hakea 16:30 mennessä.\nAjank
 ohta: 1.-5.6.2026 Klo: 9-16 Kenelle: 2013-2020 syntyneille Vastuuvalmentaj
 at: Hongan päätoimiset valmentajat Hinta: Tapiolan Hongan jäsenille 190
  euroa\, muille 210 euroa Hinta sisältää: Huippuvalmennuksen\, lounaan 
 ja välipalan Vakuutus: Leiriläisiä EI ole vakuutettu järjestäjän toi
 mesta  HUOM! ERIKOISRUOKAVALIOT: Ilmoita lapsen ruoka-allergia tai erikois
 ruokavalio ilmoittautumisen yhteydessä 'Ruoka-aineallergiat ja erikoisruo
 kavaliot' -lisäkenttään.\nLaskutus ja peruutusehdot\nLasku lähetetää
 n ilmoittautumisen yhteydessä. Maksuehto on 14 pv.\nViimeistään 7 vrk e
 nnen leirin alkua tulleista peruutuksista palautamme leirimaksun kokonaan\
 , lukuun ottamatta 5 euron käsittelymaksua. Tämän jälkeen tulleista pe
 ruutuksista palautamme 75 % leirimaksusta. Leirin alkamisen jälkeen tulle
 ista peruutuksista palautamme 50 % leirimaksusta lääkärintodistusta vas
 taan siltä osin\, kun lapselta jää kokonaisia leiripäiviä väliin. Os
 allistuminen perutaan aina kirjallisesti osoitteeseen antti.viitanen (at) 
 tapiolanhonka.fi. Leirimaksun maksamatta jättäminen ei tarkoita osallist
 umisen perumista.\nLisätiedot: Antti Viitanen (antti.viitanen (at) tapiol
 anhonka.fi / 0505839953)\n\nhttps://tapiolanhonka.myclub.fi/flow/events/10
 237077
LOCATION:Honkahalli\, Urheilupuistontie 2\, 02200 Espoo\, Suomi
SEQUENCE:0
SUMMARY:Leirit: Honka SUMMER CAMP 2026 (2013-2020 syntyneille)
URL;VALUE=URI:https://tapiolanhonka.myclub.fi/flow/events/10237077
END:VEVENT
END:VCALENDAR
